BEGIN:VCALENDAR
METHOD:PUBLISH
VERSION:2.0
X-WR-CALNAME:Calendar
PRODID:-//i.moscow//NONSGML v1.0//EN
BEGIN:VEVENT
UID:180dcf2b87464fe6bd50a1f36888af40@i.moscow
DTSTAMP:20260420T213832Z
DTSTART;TZID=Europe/Moscow:20260422T190000
DTEND;TZID=Europe/Moscow:20260422T203000
SUMMARY:Морские экспедиции и ветровое волнение: путь российского океанолога от Арктики до Охотского моря
LOCATION:Кластер "Ломоносов"
DESCRIPTION:
Паблик-ток о пути в науку через личный опыт исследователя-океанолога: от первых школьных интересов до участия в арктических экспедициях и работы с климатическими моделями. Разговор о том, как на самом деле изучают океаны и почему это важно сегодня.
URL;VALUE=URI:https://i.moscow/event_old/073bc36c053243c9a2f0ac5d6144977f
END:VEVENT
END:VCALENDAR
